BEGIN:VCALENDAR
PRODID:NingEventWidget-v1
VERSION:2.0
METHOD:PUBLISH
BEGIN:VEVENT
UID:1791588:Event:175128
DTSTAMP:20260421T080453Z
SUMMARY:2018 SIIM Imaging Informatics Professionals Bootcamp
DESCRIPTION:The 2017 SIIM Imaging Informatics Professional Bootcamp is
  a refresher tool for enhancing your imaging informatics foundation. T
 his full-day course will allow you to walk-away with resources to help
  you prepare for the IIP certification exam inspiring informaticists t
 o be the driving force for change in their organization.\n\nFor more i
 nformation visit https://community.radrounds.com/events/2018-siim-imag
 ing-informatics-professionals-bootcamp
DTSTART:20180530T040000Z
DTEND:20180531T035900Z
CATEGORIES:educational, event
LOCATION:Gaylord National Resort &amp; Convention Center
WEBSITE:http://www.SIIM2018.org
URL:http://www.SIIM2018.org
CONTACT:703-723-0432
ORGANIZER:Andrea Saris
ATTACH;FMTTYPE="image/jpeg":http://storage.ning.com/topology/rest/1.0/
 file/get/1044772482?profile=original
ATTENDEE;ROLE=REQ-PARTICIPANT;PARTSTAT=ACCEPTED;RSVP=TRUE;CN="Cathy Wo
 lniewicz":https://community.radrounds.com/profile/CathyWolniewicz
END:VEVENT
END:VCALENDAR
