BEGIN:VCALENDAR
PRODID:NingEventWidget-v1
VERSION:2.0
METHOD:PUBLISH
BEGIN:VEVENT
UID:1791588:Event:168723
DTSTAMP:20260419T190956Z
SUMMARY:2017 LARS and CRS MidWinter Meeting
DESCRIPTION:LARS and CRS have partnered to add practice management, re
 gulatory and legislative, and insurance subjects into the educational 
 mix to complement the traditional Radiology, Radiation Oncology and Nu
 clear Medicine focus sessions.  \nTwo CRS Sessions have been integra
 ted directly into the Radiology Program Saturday, with an additional b
 reakout session on Sunday morning. Sunday afternoon California's Resi
 dents and Fellows Section (RFS) has planned a program directed towards
  the special interests of Radiologists in Training.  Check out the co
 nference schedule tab for specific faculty and lectures.\n\n\n\n\n\n\n
 \n\n\nFor more information visit https://community.radrounds.com/event
 s/2017-lars-and-crs-midwinter-meeting
DTSTART:20170225T050000Z
DTEND:20170227T045900Z
CATEGORIES:cme, meeting
LOCATION:Pasadena Convention Center
WEBSITE:http://laradiological.wixsite.com/midwinter-2017
URL:http://laradiological.wixsite.com/midwinter-2017
CONTACT:626-836-5800
ORGANIZER;CN="BA Filip":https://community.radrounds.com/profile/BAFili
 p
ATTACH;FMTTYPE="image/jpeg":
ATTENDEE;ROLE=REQ-PARTICIPANT;PARTSTAT=ACCEPTED;RSVP=TRUE;CN="BA Filip
 ":https://community.radrounds.com/profile/BAFilip
END:VEVENT
END:VCALENDAR
