BEGIN:VCALENDAR
PRODID:NingEventWidget-v1
VERSION:2.0
METHOD:PUBLISH
BEGIN:VEVENT
UID:1791588:Event:168519
DTSTAMP:20260422T034821Z
SUMMARY:2016 SPR Pediatric Ultrasound Course
DESCRIPTION:Program highlights include, 2 full days of Didactic lectur
 es, Ultrasound demonstrations and MUCH MORE! Topics include, GI & GU R
 adiology, Contrast Enhanced US, TCD and Neurosonography. Earn CME and 
 SAM Credits.\n\nFor more information visit https://community.radrounds
 .com/events/2016-spr-pediatric-ultrasound-course
DTSTART:20161104T110000Z
DTEND:20161106T170000Z
CATEGORIES:live, meeting
LOCATION:Nemours Children's Hospital
WEBSITE:http://www.pedrad.org/Events/SPRMeetings
URL:http://www.pedrad.org/Events/SPRMeetings
CONTACT:703-648-8900
ORGANIZER:The Society for Pediatric Radiology
ATTACH;FMTTYPE="image/jpeg":
ATTENDEE;ROLE=REQ-PARTICIPANT;PARTSTAT=ACCEPTED;RSVP=TRUE;CN="Angela D
 avis":https://community.radrounds.com/profile/KarenSchmitt
END:VEVENT
END:VCALENDAR
