BEGIN:VCALENDAR
PRODID:NingEventWidget-v1
VERSION:2.0
METHOD:PUBLISH
BEGIN:VEVENT
UID:1791588:Event:161374
DTSTAMP:20260422T132958Z
SUMMARY:2016 SAR Annual Scientific Meeting and Educational Course
DESCRIPTION:The SAR 2016 Annual Scientific Meeting and Educational Cou
 rse will be held, March 13 - 18, 2016 at the Hilton Waikoloa Village i
 n Waikoloa, Hawaii. This annual meeting was formerly called the Abdomi
 nal Radiology Course and is a presentation of the Society of Abdominal
  Radiology (formerly the Society of Gastrointestinal Radiologists and 
 the Society of Uroradiology). The course encompasses the full range of
  activities that constitute contemporary abdominal radiology including
 : all methods of diagnostic imaging and radiologic intervention, with 
 emphasis on state-of-the-art utilization, performance and interpretati
 on; new and innovative approaches to abdominal and pelvic pathology; m
 ajor issues, and common problems in gastrointestinal and genitourinary
  radiology; and assessment of major abdominal pathology with sessions 
 devoted to exploring the latest imaging techniques utilized in evaluat
 ion of the genitourinary and gastrointestinal systems. These topics wi
 ll be addressed in didactic lectures, panel discussions, self-assessme
 nt modules (SAMs), interactive workshops, and six hands-on training wo
 rkshops. The extensive variety of small group workshops and SAMs will 
 enable participants to tailor their learning experience according to t
 heir individual needs. The Scientific Paper Sessions of the Society wi
 ll be open to all members. Numerous educational and scientific posters
  spanning all aspects of abdominal imaging will be available to all co
 urse participants for study throughout the meeting. Designed primarily
  for radiologists in practice and in training, this course will also b
 enefit all physicians who care for patients with gastrointestinal and 
 genitourinary disease.\nAMA PRA Category 1 Credits™ and SAM credit w
 ill be offered. Fees: vary ($500-$1100). The meeting is provided by th
 e Society of Abdominal Radiology. For more information, contact the SA
 R Meeting Management Office, at SAR, 4550 Post Oak Place, Suite 342, H
 ouston TX 77027; phone 713-965-0566; fax 713-960-0488; email admin@abd
 ominalradiology.org; or visit the society website at www.abdominalradi
 ology.org.\n\nFor more information visit https://community.radrounds.c
 om/events/2016-sar-annual-scientific-meeting-and-educational-course
DTSTART:20160313T050000Z
DTEND:20160319T035900Z
CATEGORIES:scientific, meeting, and, educational, course
LOCATION:Hilton Waikoloa Village
WEBSITE:http://www.abdominalradiology.org/
URL:http://www.abdominalradiology.org/
CONTACT:713.956.0566
ORGANIZER;CN="ARC Meetings Dept":https://community.radrounds.com/profi
 le/ARCMeetingsDept
ATTACH;FMTTYPE="image/jpeg":
ATTENDEE;ROLE=REQ-PARTICIPANT;PARTSTAT=ACCEPTED;RSVP=TRUE;CN="ARC Meet
 ings Dept":https://community.radrounds.com/profile/ARCMeetingsDept
END:VEVENT
END:VCALENDAR
