BEGIN:VCALENDAR
PRODID:NingEventWidget-v1
VERSION:2.0
METHOD:PUBLISH
BEGIN:VEVENT
UID:1791588:Event:167928
DTSTAMP:20260421T104759Z
SUMMARY:2016 MRI Mini Conference
DESCRIPTION:Course Topics Coming Soon!\n\nFor more information visit h
 ttps://community.radrounds.com/events/2016-mri-mini-conference-1
DTSTART:20160813T130000Z
DTEND:20160813T203000Z
CATEGORIES:simulcast
LOCATION:Houston
WEBSITE:https://store.aheconline.com/index.php?route=product/product&p
 ath=59_79&product_id=2279
URL:https://store.aheconline.com/index.php?route=product/product&path=
 59_79&product_id=2279
CONTACT:18002391361
ORGANIZER;CN="Larry Carney":https://community.radrounds.com/profile/La
 rryCarney
ATTACH;FMTTYPE="image/jpeg":
ATTENDEE;ROLE=REQ-PARTICIPANT;PARTSTAT=ACCEPTED;RSVP=TRUE;CN="Larry Ca
 rney":https://community.radrounds.com/profile/LarryCarney
END:VEVENT
END:VCALENDAR
