BEGIN:VCALENDAR
PRODID:NingEventWidget-v1
VERSION:2.0
METHOD:PUBLISH
BEGIN:VEVENT
UID:1791588:Event:157068
DTSTAMP:20260421T161424Z
SUMMARY:2015 Advances in Fetal and Neonatal Imaging Course
DESCRIPTION:At the completion of this course, participants will be abl
 e to understand basic principles of fetal and neonatal imaging, recogn
 ize the need for standardized protocols and how this impacts outcome m
 anagement.\n\nFor more information visit https://community.radrounds.c
 om/events/2015-advances-in-fetal-and-neonatal-imaging-course
DTSTART:20150123T050000Z
DTEND:20150126T045900Z
CATEGORIES:meeting
LOCATION:Wyndham Grand Orlando Resort Bonnet Creek Orlando, FL 32821
WEBSITE:http://www.pedrad.org/Events/SPRMeetings.aspx
URL:http://www.pedrad.org/Events/SPRMeetings.aspx
CONTACT:703-648-4680
ORGANIZER;CN="Angela Davis":https://community.radrounds.com/profile/Ka
 renSchmitt
ATTACH;FMTTYPE="image/jpeg":
ATTENDEE;ROLE=REQ-PARTICIPANT;PARTSTAT=ACCEPTED;RSVP=TRUE;CN="Angela D
 avis":https://community.radrounds.com/profile/KarenSchmitt
END:VEVENT
END:VCALENDAR
