BEGIN:VCALENDAR
PRODID:NingEventWidget-v1
VERSION:2.0
METHOD:PUBLISH
BEGIN:VEVENT
UID:1791588:Event:149435
DTSTAMP:20260421T060341Z
SUMMARY:2014 AIUM Annual Convention
DESCRIPTION:The AIUM 2014 Annual Convention and Preconvention Program 
 is the most comprehensive, cutting-edge meeting for the entire medical
  ultrasound community. The meeting brings together leading ultrasound 
 experts, new research, the latest technology, and all levels of those 
 interested in ultrasound. The 2014 convention program will incorporate
  an unprecedented selection of scientific research and a breadth of in
 novative ultrasound-related educational opportunities. Please make pla
 ns to join the AIUM March 29-April 2, 2014, at Caesars Palace, Las Veg
 as, Nevada.\n\nFor more information visit https://community.radrounds.
 com/events/2014-aium-annual-convention
DTSTART:20140329T040000Z
DTEND:20140403T035900Z
CATEGORIES:annual, convention
LOCATION:Caesars Palace
WEBSITE:http://www.aium.org/cme/events/ann2014/ann2014.aspx
URL:http://www.aium.org/cme/events/ann2014/ann2014.aspx
CONTACT:8006385352
ORGANIZER:Danielle Delanko
ATTACH;FMTTYPE="image/jpeg":
ATTENDEE;ROLE=REQ-PARTICIPANT;PARTSTAT=ACCEPTED;RSVP=TRUE;CN="Danielle
  Tyler":https://community.radrounds.com/profile/DanielleTyler
END:VEVENT
END:VCALENDAR
