BEGIN:VCALENDAR
PRODID:NingEventWidget-v1
VERSION:2.0
METHOD:PUBLISH
BEGIN:VEVENT
UID:1791588:Event:117607
DTSTAMP:20260421T090912Z
SUMMARY:2012 AOCR Annual Convention
DESCRIPTION:2012 AOCR Annual Convention Monday, April 23, 2012 - Frida
 y, April 27, 2012The Palazzo Las Vegas, Nevada (NV), United StatesProv
 ided by American Osteopathic College of Radiology  CME Provider: Ameri
 can Osteopathic College of Radiology 119 East Second StreetMilan, Miss
 ouri (MO) 63556-4011United States\nToll Free: (800) 258-AOCRPhone: (66
 0) 265-4011Fax: (660) 265-3494 Conference Center:The Palazzo 3325 Las 
 Vegas Blvd. SouthLas Vegas, Nevada (NV) 89109United States\nToll Free:
  (866) 263-3001Phone: (702) 607-7777\n Description:The 2012 Annual Con
 vention, “Advanced Body Imaging: Including CT, MR, US and MSK,” sp
 onsored by the American Osteopathic College of Radiology, is intended 
 to advance the radiologist’s interpretation skills and intervention 
 techniques in body imaging and musculoskeletal studies. Focus of prese
 ntations will include topics on thyroid and neck imaging, chest, abdom
 en, and pelvis, and select MSK lectures. Attendees will also receive i
 nformation on Accountable Care Organizations and Osteopathic Continuou
 s Certification.\n\nSpecialty Audience: Radiology\n\nFor more informa
 tion visit https://community.radrounds.com/events/2012-aocr-annual-con
 vention
DTSTART:20120423T040000Z
DTEND:20120428T035900Z
CATEGORIES:radiology
LOCATION:The Palazzo
WEBSITE:http://www.palazzo.com/
URL:http://www.palazzo.com/
CONTACT:(702) 607-7777
ORGANIZER:American Osteopathic College of Radiology
ATTACH;FMTTYPE="image/jpeg":
ATTENDEE;ROLE=REQ-PARTICIPANT;PARTSTAT=ACCEPTED;RSVP=TRUE;CN="radRound
 s Radiology Events":https://community.radrounds.com/profile/radRoundsR
 adiologyEvents
END:VEVENT
END:VCALENDAR
