BEGIN:VCALENDAR
PRODID:NingEventWidget-v1
VERSION:2.0
METHOD:PUBLISH
BEGIN:VEVENT
UID:1791588:Event:116171
DTSTAMP:20260421T210253Z
SUMMARY:2012 American Roentgen Ray Society Annual Meeting
DESCRIPTION:2012 American Roentgen Ray Society Annual Meeting Sunday, 
 April 29, 2012 - Friday, May 04, 2012Vancouver Convention Centre Vanco
 uver, British Columbia, CanadaProvided by American Roentgen Ray Societ
 y (ARRS)  CME Provider: American Roentgen Ray Society (ARRS) 44211 Sla
 testone CourtLeesburg, Virginia (VA) 20176-5109United States\nToll Fre
 e: (866) 940-2777Phone: (703) 729-3353Fax: (703) 729-4839\n\nConferenc
 e Center:Vancouver Convention Centre 1055 Canada PlaceVancouver, Briti
 sh Columbia, V6C 0C3Canada\nToll Free: (866) 785-8232Phone: (604) 689-
 8232Fax: (604) 647-7232\n Description:The 2012 Annual Meeting of the A
 merican Roentgen Ray Society has three goals:\nTo offer an educational
  forum in the practice and science of radiology based on recognized ne
 eds;\nTo provide a forum to report on, exchange information on and dis
 seminate new developments and expert knowledge in radiology; and\nTo e
 nsure that the educational activities have influenced participants' kn
 owledge, skills, behavior and practice performance.\nCategorical Cours
 e on \"Pitfalls in Clinical Imaging\"\nSelf Assessment Module (SAM): Y
 es\nInstructors:Please visit the American Roentgen Ray Society (ARRS) 
 website for more information.\nSpecialty Audience:Radiology\n\nFor mor
 e information visit https://community.radrounds.com/events/2012-americ
 an-roentgen-ray-society-annual-meeting
DTSTART:20120429T040000Z
DTEND:20120505T035900Z
CATEGORIES:radiology
LOCATION:Vancouver Convention Centre
WEBSITE:http://www.vancouverconventioncentre.com/
URL:http://www.vancouverconventioncentre.com/
CONTACT:(604) 689-8232
ORGANIZER:American Roentgen Ray Society (ARRS)
ATTACH;FMTTYPE="image/jpeg":
ATTENDEE;ROLE=REQ-PARTICIPANT;PARTSTAT=ACCEPTED;RSVP=TRUE;CN="radRound
 s Radiology Events":https://community.radrounds.com/profile/radRoundsR
 adiologyEvents
END:VEVENT
END:VCALENDAR
