BEGIN:VCALENDAR
PRODID:NingEventWidget-v1
VERSION:2.0
METHOD:PUBLISH
BEGIN:VEVENT
UID:1791588:Event:116329
DTSTAMP:20260421T091014Z
SUMMARY:2012 Abdominal Radiology Course
DESCRIPTION:2012 Abdominal Radiology Course Sunday, March 25, 2012 - F
 riday, March 30, 2012Fairmont Scottsdale Scottsdale, Arizona (AZ), Uni
 ted StatesProvided by Society of Gastrointestinal Radiologists/Society
  of Uroradiology  CME Provider: Society of Gastrointestinal Radiologis
 ts/Society of Uroradiology ARC Meetings Dept4550 Post Oak PlaceSuite 3
 42Houston, Texas (TX) 77027United States\nPhone: (713) 965-0566Fax: (7
 13) 960-0488\n\nConference Center:Fairmont Scottsdale 7575 East Prince
 ss DriveScottsdale, Arizona (AZ) 85255United States\nToll Free: (866) 
 540-4495Phone: (480) 585-4848Fax: (480) 585-0091\nDescription:The 2012
  Abdominal Radiology Course will be held, March 25 – 30, 2012 at the
  Fairmont Scottsdale Princess in Scottsdale, Arizona. The Abdominal Ra
 diology Course is a joint presentation of the Society of Gastrointesti
 nal Radiologists and the Society of Uroradiology. The course encompass
 es the full range of activities that constitute contemporary abdominal
  radiology including: all methods of diagnostic imaging and radiologic
  intervention, with emphasis on state-of-the-art utilization, performa
 nce and interpretation; new and innovative approaches to abdominal and
  pelvic pathology; major issues, and common problems in gastrointestin
 al and genitourinary radiology; and assessment of major abdominal path
 ology with sessions devoted to exploring the latest imaging techniques
  utilized in evaluation of the genitourinary and gastrointestinal syst
 ems.\nThese topics will be addressed in didactic lectures, panel discu
 ssions and interactive workshops. The extensive variety of small group
  workshops will enable participants to tailor their learning experienc
 e according to their individual needs. Both societies will also presen
 t their scientific paper and poster sessions, which are open to all re
 gistrants. Designed primarily for radiologists in practice and in trai
 ning, this course will also benefit all physicians who care for patien
 ts with gastrointestinal and genitourinary disease.\nAMA PRA Category 
 1 Credits™ will be offered. Fees: vary ($450-$1000). The meeting is 
 jointly sponsored by the Society of Gastrointestinal Radiologists and 
 the Society of Uroradiology. For more information, contact the ARC Mee
 ting Management Office, at ARC, 4550 Post Oak Place, Suite 342, Housto
 n TX 77027; phone 713-965-0566; fax 713-960-0488 or visit the society 
 web sites at www.sgr.org or www.uroradiology.org.\nSelf Assessment Mod
 ule (SAM): Yes\nInstructors:Ronald Zagoria, MD, C. Daniel Johnson, MD\
 nSpecialty Audience:Radiology\n\nFor more information visit https://co
 mmunity.radrounds.com/events/2012-abdominal-radiology-course
DTSTART:20120325T040000Z
DTEND:20120331T035900Z
CATEGORIES:radiology
LOCATION:Fairmont Scottsdale
WEBSITE:http://www.fairmont.com/scottsdale
URL:http://www.fairmont.com/scottsdale
CONTACT:(480) 585-4848
ORGANIZER:Society of Gastrointestinal Radiologists/Society of Uroradio
 logy
ATTACH;FMTTYPE="image/jpeg":
ATTENDEE;ROLE=REQ-PARTICIPANT;PARTSTAT=ACCEPTED;RSVP=TRUE;CN="radRound
 s Radiology Events":https://community.radrounds.com/profile/radRoundsR
 adiologyEvents
END:VEVENT
END:VCALENDAR
