BEGIN:VCALENDAR
PRODID:NingEventWidget-v1
VERSION:2.0
METHOD:PUBLISH
BEGIN:VEVENT
UID:1791588:Event:116278
DTSTAMP:20260423T032824Z
SUMMARY:2 Day Bone Densitometry Course
DESCRIPTION:2 Day Bone Densitometry Course Saturday, May 05, 2012 - Su
 nday, May 06, 2012DoubleTree by Hilton Hotel Denver - Aurora Aurora, C
 olorado (CO), United StatesProvided by Medical Technology Management I
 nstitute (MTMI)  CME Provider: Medical Technology Management Institute
  (MTMI) 20900 Swenson DriveSuite 650Waukesha, Wisconsin (WI) 53186Unit
 ed States\nToll Free: (800) 765-6864Phone: (262) 717-9797Fax: (262) 71
 7-9171\n\nConference Center:DoubleTree by Hilton Hotel Denver - Aurora
  13696 East Iliff PlaceAurora, Colorado (CO) 80014-1319United States\n
 Phone: (303) 337-2800Fax: (303) 752-0296\n Description:This 2-day cour
 se is a comprehensive review of the role of bone densitometry in the d
 iagnosis and treatment of osteoporosis. The course will cover the tech
 nology, clinical applications, interpretation of results, clinical pro
 cedures, handling of problem cases, safety, quality assurance and the 
 establishment and operation of a bone densitometry service.\nSelf Asse
 ssment Module (SAM): No\nInstructors:Michelle Heater, RT(R)(M)(BD), CB
 DT\nSpecialty Audience:Radiology\n\nFor more information visit https:/
 /community.radrounds.com/events/2-day-bone-densitometry-course-7
DTSTART:20120505T040000Z
DTEND:20120507T035900Z
CATEGORIES:radiology
LOCATION:DoubleTree by Hilton Hotel Denver - Aurora
WEBSITE:http://doubletree1.hilton.com/en_US/dt/hotel/DENITDT-DoubleTre
 e-by-Hilton-Hotel-Denver-Aurora-Colorado/index.do
URL:http://doubletree1.hilton.com/en_US/dt/hotel/DENITDT-DoubleTree-by
 -Hilton-Hotel-Denver-Aurora-Colorado/index.do
CONTACT:(303) 337-2800
ORGANIZER:Medical Technology Management Institute (MTMI)
ATTACH;FMTTYPE="image/jpeg":
ATTENDEE;ROLE=REQ-PARTICIPANT;PARTSTAT=ACCEPTED;RSVP=TRUE;CN="radRound
 s Radiology Events":https://community.radrounds.com/profile/radRoundsR
 adiologyEvents
END:VEVENT
END:VCALENDAR
