BEGIN:VCALENDAR
PRODID:NingEventWidget-v1
VERSION:2.0
METHOD:PUBLISH
BEGIN:VEVENT
UID:1791588:Event:116213
DTSTAMP:20260423T204112Z
SUMMARY:2 Day Bone Densitometry Course
DESCRIPTION:2 Day Bone Densitometry Course Saturday, March 24, 2012 - 
 Sunday, March 25, 2012Meeting location pending Atlanta, Georgia (GA), 
 United StatesProvided by Medical Technology Management Institute (MTMI
 )  CME Provider: Medical Technology Management Institute (MTMI) 20900 
 Swenson DriveSuite 650Waukesha, Wisconsin (WI) 53186United States\nTol
 l Free: (800) 765-6864Phone: (262) 717-9797Fax: (262) 717-9171\n\nConf
 erence Center:Meeting location pending Meeting location pendingAtlanta
 , Georgia (GA) United States\nToll Free: (800) 765-6864Phone: (262) 71
 7-9797Fax: (262) 717-9171\n Description:This 2-day course is a compreh
 ensive review of the role of bone densitometry in the diagnosis and tr
 eatment of osteoporosis. The course will cover the technology, clinica
 l applications, interpretation of results, clinical procedures, handli
 ng of problem cases, safety, quality assurance and the establishment a
 nd operation of a bone densitometry service.\nSelf Assessment Module (
 SAM): No\nInstructors:Michelle Heater, RT(R)(M)(BD), CBDT\nSpecialty A
 udience:Radiology\n\nFor more information visit https://community.radr
 ounds.com/events/2-day-bone-densitometry-course-6
DTSTART:20120324T040000Z
DTEND:20120326T035900Z
CATEGORIES:radiology
LOCATION:Meeting location pending
WEBSITE:http://www.mtmi.net/
URL:http://www.mtmi.net/
CONTACT:(262) 717-9797
ORGANIZER:Medical Technology Management Institute (MTMI)
ATTACH;FMTTYPE="image/jpeg":
ATTENDEE;ROLE=REQ-PARTICIPANT;PARTSTAT=ACCEPTED;RSVP=TRUE;CN="radRound
 s Radiology Events":https://community.radrounds.com/profile/radRoundsR
 adiologyEvents
END:VEVENT
END:VCALENDAR
