BEGIN:VCALENDAR
PRODID:NingEventWidget-v1
VERSION:2.0
METHOD:PUBLISH
BEGIN:VEVENT
UID:1791588:Event:107307
DTSTAMP:20260420T052853Z
SUMMARY:2 Day Bone Densitometry Course
DESCRIPTION:Attend this course if you are:\n\nA Technologist.\nA Physi
 cian.\nA Manager.\nAn allied health professional.\nSomeone who wants t
 o learn about bone densitometry.\nAn individual from a company offerin
 g products related to bone densitometry.\nSomeone who sets up, manages
 , or operates a bone densitometry service.\nPreparing to take a certif
 ication exam (such as offered by ISCD or ARRT). \n\n \nMTMI is offer
 ing a 2 Day Bone Densitometry Course which will cover the technology, 
 clinical applications, interpretation of results, clinical procedures,
  handling of problem cases, safety, quality assurance and the establis
 hment and operation of a bone densitometry service.\n \nGain useful i
 nsight and knowledge!\n \nThis course provides 16 hours of category A
  continuing education credit for the radiologic technologists recogniz
 ed by the ARRT and various licensure states.\n \nCLICK HERE TO REGIST
 ER NOW!\n\nFor more information visit https://community.radrounds.com/
 events/2-day-bone-densitometry-course-5
DTSTART:20120623T123000Z
DTEND:20120624T203000Z
CATEGORIES:course
LOCATION:Kansas City, MO
WEBSITE:http://www.mtmi.net/courses/reg_BD.php
URL:http://www.mtmi.net/courses/reg_BD.php
CONTACT:(800) 765-6864
ORGANIZER:Medical Technology Management Institute (MTMI)
ATTACH;FMTTYPE="image/jpeg":http://storage.ning.com/topology/rest/1.0/
 file/get/1044737493?profile=original
ATTENDEE;ROLE=REQ-PARTICIPANT;PARTSTAT=ACCEPTED;RSVP=TRUE;CN="Rizza T.
  Kinney":https://community.radrounds.com/profile/RizzaTKinney
END:VEVENT
END:VCALENDAR
