BEGIN:VCALENDAR
PRODID:NingEventWidget-v1
VERSION:2.0
METHOD:PUBLISH
BEGIN:VEVENT
UID:1791588:Event:107304
DTSTAMP:20260422T080152Z
SUMMARY:2 Day Bone Densitometry Course
DESCRIPTION:Attend this course if you are:\n\nA Technologist.\nA Physi
 cian.\nA Manager.\nAn allied health professional.\nSomeone who wants t
 o learn about bone densitometry.\nAn individual from a company offerin
 g products related to bone densitometry.\nSomeone who sets up, manages
 , or operates a bone densitometry service.\nPreparing to take a certif
 ication exam (such as offered by ISCD or ARRT). \n\n \nMTMI is offer
 ing a 2 Day Bone Densitometry Course which will cover the technology, 
 clinical applications, interpretation of results, clinical procedures,
  handling of problem cases, safety, quality assurance and the establis
 hment and operation of a bone densitometry service.\n \nGain useful i
 nsight and knowledge!\n \nThis course provides 16 hours of category A
  continuing education credit for the radiologic technologists recogniz
 ed by the ARRT and various licensure states.\n \n \nCLICK HERE TO RE
 GISTER NOW!\n \n\nFor more information visit https://community.radrou
 nds.com/events/2-day-bone-densitometry-course-4
DTSTART:20120505T123000Z
DTEND:20120506T203000Z
CATEGORIES:course
LOCATION:Denver, CO
WEBSITE:http://www.mtmi.net/courses/reg_BD.php
URL:http://www.mtmi.net/courses/reg_BD.php
CONTACT:(800) 765-6864
ORGANIZER:Medical Technology Management Institute (MTMI)
ATTACH;FMTTYPE="image/jpeg":http://storage.ning.com/topology/rest/1.0/
 file/get/1044737537?profile=original
ATTENDEE;ROLE=REQ-PARTICIPANT;PARTSTAT=ACCEPTED;RSVP=TRUE;CN="Rizza T.
  Kinney":https://community.radrounds.com/profile/RizzaTKinney
END:VEVENT
END:VCALENDAR
