BEGIN:VCALENDAR
PRODID:NingEventWidget-v1
VERSION:2.0
METHOD:PUBLISH
BEGIN:VEVENT
UID:1791588:Event:117501
DTSTAMP:20260424T073536Z
SUMMARY:18th Annual Snowmass 2012: Clinical Ultrasound
DESCRIPTION:18th Annual Snowmass 2012: Clinical Ultrasound Sunday, Feb
 ruary 26, 2012 - Friday, March 02, 2012Snowmass Conference Center Snow
 mass Village, Colorado (CO), United StatesProvided by Educational Symp
 osia (ESI)  CME Provider: Educational Symposia (ESI) 5620 W. Sligh Ave
 nueTampa, Florida (FL) 33634-4490United States\nToll Free: (800) 338-5
 901Phone: (813) 806-1000Fax: (800) 344-0668 Conference Center:Snowmass
  Conference Center 76 Elbert LaneSnowmass Village, Colorado (CO) 81615
 United States\nToll Free: (800) 598-2006Phone: (970) 923-2000Fax: (970
 ) 923-5466\nDescription:ABOUT THE MEETING\nThis symposium is structure
 d as a practical, clinically oriented review of ultrasound. A mix of o
 b-gyn, body, musculoskeletal, pediatric and vascular lectures are incl
 uded so registrants can expand their clinical practices. Tips, protoco
 ls, and pitfalls provide balance to the program. Faculty have been sel
 ected for their teaching ability, as well as for their expertise.\nTAR
 GET AUDIENCE\nThis course should benefit those who order, perform, and
  interpret clinical ultrasound studies. It should be particularly valu
 able for diagnostic imaging physicians, ob-gyn physicians, vascular su
 rgeons, and referring physicians who utilize ultrasound to evaluate th
 e clinical status of their patients. The symposium should also be valu
 able for sonographers who perform these procedures.\nEDUCATIONAL OBJEC
 TIVES\nAttendees should, at the completion of this course, be able to:
 \nExpand their clinical protocols for evaluating the vascular system D
 iscuss the use of ultrasound in evaluation of kidney transplants Discu
 ss the clinical application of ultrasound imaging to evaluate the musc
 uloskeletal system Utilize ultrasound to assess patients with a variet
 y of abdominal and pelvic disorders Evaluate patients for thyroid dise
 ase using ultrasound imaging techniques Assess new developments in eva
 luating obstetrical and gynecological patients Discuss various applica
 tions of ultrasound imaging to evaluate the neonate and pediatric pati
 entNo special educational preparation is required for this CME activit
 y.\nSelf Assessment Module (SAM): No\n\nSpecialty Audience: Radiology
 \n\nFor more information visit https://community.radrounds.com/events/
 18th-annual-snowmass-2012-clinical-ultrasound
DTSTART:20120226T050000Z
DTEND:20120303T045900Z
CATEGORIES:radiology
LOCATION:Snowmass Conference Center
WEBSITE:http://www.snowmassgroups.com/snowmass-conference-center
URL:http://www.snowmassgroups.com/snowmass-conference-center
CONTACT:(970) 923-2000
ORGANIZER:Educational Symposia (ESI)
ATTACH;FMTTYPE="image/jpeg":
ATTENDEE;ROLE=REQ-PARTICIPANT;PARTSTAT=ACCEPTED;RSVP=TRUE;CN="radRound
 s Radiology Events":https://community.radrounds.com/profile/radRoundsR
 adiologyEvents
END:VEVENT
END:VCALENDAR
