BEGIN:VCALENDAR
PRODID:NingEventWidget-v1
VERSION:2.0
METHOD:PUBLISH
BEGIN:VEVENT
UID:1791588:Event:116203
DTSTAMP:20260424T004823Z
SUMMARY:17th Annual Radiology Review
DESCRIPTION:17th Annual Radiology Review Monday, March 12, 2012 - Frid
 ay, March 16, 2012Wyndam Chicago Chicago, Illinois (IL), United States
 Provided by University of Chicago  CME Provider: University of Chicago
  Center for Continuing Medical Education950 East 61st Street, Suite 10
 Chicago, Illinois (IL) 60637United States\nPhone: (773) 702-1056Fax: (
 773) 702-1736\n\nConference Center:Wyndam Chicago 633 North St. ClairC
 hicago, Illinois (IL) 60611United States\nToll Free: (877) 999-3223Pho
 ne: (312) 573-0300\n Description:We invite you to join us at this exci
 ting, comprehensive review of the practical aspects of all major subsp
 ecialties of Diagnostic Radiology. Our experts are chosen for their ex
 cellence as teachers and will share their clinical expertise and insig
 ht to help you improve your performance and practice. They will guide 
 you to appropriate use of conventional imaging modalities such as plai
 n film radiography, computed tomography, magnetic resonance imaging, u
 ltrasound, nuclear medicine and angiography; and when appropriate, the
 y will emphasize newer important imaging modalities including PET/CT, 
 diffusion weighted MR, cardiac CT and virtual colonoscopy.\nSelf Asses
 sment Module (SAM): No\nInstructors:CHAIRMAN:David Paushter, MD, FACRP
 rofessor and Interim ChairDepartment of RadiologyUniversity of Chicago
 \nCOURSE DIRECTOR:Daniel E. Appelbaum, MDAssociate Professor of Radiol
 ogyDirector of Nuclear Medicine / PET ImagingUniversity of Chicago\nSp
 ecialty Audience:Radiology\n\nFor more information visit https://commu
 nity.radrounds.com/events/17th-annual-radiology-review
DTSTART:20120312T040000Z
DTEND:20120317T035900Z
CATEGORIES:radiology
LOCATION:Wyndam Chicago
WEBSITE:http://www.wyndham.com/hotels/ORDDT/main.wnt
URL:http://www.wyndham.com/hotels/ORDDT/main.wnt
CONTACT:(312) 573-0300
ORGANIZER:University of Chicago
ATTACH;FMTTYPE="image/jpeg":
ATTENDEE;ROLE=REQ-PARTICIPANT;PARTSTAT=ACCEPTED;RSVP=TRUE;CN="radRound
 s Radiology Events":https://community.radrounds.com/profile/radRoundsR
 adiologyEvents
END:VEVENT
END:VCALENDAR
