BEGIN:VCALENDAR
PRODID:NingEventWidget-v1
VERSION:2.0
METHOD:PUBLISH
BEGIN:VEVENT
UID:1791588:Event:174801
DTSTAMP:20260421T061530Z
SUMMARY:17th Annual Emergency Radiology Symposium
DESCRIPTION:Continuing medical education symposium for radiologists an
 d emergency radiologists.\n\nFor more information visit https://commun
 ity.radrounds.com/events/17th-annual-emergency-radiology-symposium
DTSTART:20171105T200000Z
DTEND:20171108T180000Z
CATEGORIES:continuing, medical, education
LOCATION:Ritz Carlton Hotel South Beach
WEBSITE:http://EmRadMiami.BaptistHealth.net
URL:http://EmRadMiami.BaptistHealth.net
CONTACT:786-596-2398
ORGANIZER:Symposium Director Myer H Roszler, M.D.
ATTACH;FMTTYPE="image/jpeg":
ATTENDEE;ROLE=REQ-PARTICIPANT;PARTSTAT=ACCEPTED;RSVP=TRUE;CN="Julie Zi
 mmett":https://community.radrounds.com/profile/JulieZimmett
END:VEVENT
END:VCALENDAR
