BEGIN:VCALENDAR
PRODID:NingEventWidget-v1
VERSION:2.0
METHOD:PUBLISH
BEGIN:VEVENT
UID:1791588:Event:173304
DTSTAMP:20260421T105527Z
SUMMARY:17th Annual Emergency Radiology Symposium: What You Need to Kn
 ow to Get You Through the Night
DESCRIPTION:Continuing Medical Education Symposium. The target audienc
 e is diagnostic radiologists, emergency radiologists and emergency med
 icine physicians.  Myer Roszler, M.D., is the symposium director. Spe
 akers include Elliot Fishman, M.D., Susan John, M.D., Clark West, M.D.
 , Mark Bernstein, M.D., Kevin Abrams, M.D., Juan Batlle, M.D., Constan
 tino Pena, M.D. and Robert Quencer, M.D.  There will be lectures abou
 t stroke, musculoskeletal radiology, pediatric radiology, cardiac imag
 ing and general body imaging.\n\n\nFor more information visit https://
 community.radrounds.com/events/17th-annual-emergency-radiology-symposi
 um-what-you-need-to-know
DTSTART:20171105T200000Z
DTEND:20171108T180000Z
CATEGORIES:continuing, medical, education
LOCATION:Ritz Carlton Hotel South Beach
WEBSITE:http://EmRadMiami.BaptistHealth.net
URL:http://EmRadMiami.BaptistHealth.net
CONTACT:786-596-2398
ORGANIZER:Baptist Health South Florida
ATTACH;FMTTYPE="image/jpeg":
ATTENDEE;ROLE=REQ-PARTICIPANT;PARTSTAT=ACCEPTED;RSVP=TRUE;CN="Julie Zi
 mmett":https://community.radrounds.com/profile/JulieZimmett
END:VEVENT
END:VCALENDAR
