BEGIN:VCALENDAR
PRODID:NingEventWidget-v1
VERSION:2.0
METHOD:PUBLISH
BEGIN:VEVENT
UID:1791588:Event:167895
DTSTAMP:20260421T163016Z
SUMMARY:16th Annual Emergency Radiology Symposium
DESCRIPTION:This course will be of special interest to physicians in t
 he fields of radiology, emergency radiology and emergency medicine.\n\
 n\nFor more information visit https://community.radrounds.com/events/1
 6th-annual-emergency-radiology-symposium
DTSTART:20161113T200000Z
DTEND:20161116T180000Z
CATEGORIES:continuing, medical, education, symposium
LOCATION:Fontainebleau Hotel
WEBSITE:http://EmRadMiami.BaptistHealth.net
URL:http://EmRadMiami.BaptistHealth.net
CONTACT:786-596-2398
ORGANIZER:Baptist Health South Florida
ATTACH;FMTTYPE="image/jpeg":
ATTENDEE;ROLE=REQ-PARTICIPANT;PARTSTAT=ACCEPTED;RSVP=TRUE;CN="Julie Zi
 mmett":https://community.radrounds.com/profile/JulieZimmett
END:VEVENT
END:VCALENDAR
