BEGIN:VCALENDAR
PRODID:NingEventWidget-v1
VERSION:2.0
METHOD:PUBLISH
BEGIN:VEVENT
UID:1791588:Event:162218
DTSTAMP:20260421T051248Z
SUMMARY:15th Annual Emergency Radiology Symposium
DESCRIPTION:Acutely ill adult and pediatric patients are arriving at t
 he emergency room in greater numbers than ever before. Radiologists an
 d emergency medicine physicians benefit from regular educational updat
 es to maintain competencies in utilization of the most reliable imagin
 g modalities, including latest advances and best-practice strategies, 
 for common and unusual conditions. One-third of the lectures will be d
 edicated to plain films and the remainder will focus on state-of-the-a
 rt emergency imaging of the central nervous system, chest and cardiova
 scular, musculoskeletal and abdominal areas.\n\n\nFor more information
  visit https://community.radrounds.com/events/15th-annual-emergency-ra
 diology-symposium
DTSTART:20151115T190000Z
DTEND:20151118T180000Z
CATEGORIES:continuing, medical, education
LOCATION:Fontainebleau Hotel
WEBSITE:http://EmRadMiami.BaptistHealth.net
URL:http://EmRadMiami.BaptistHealth.net
CONTACT:786-596-2398
ORGANIZER:Baptist Health South Florida
ATTACH;FMTTYPE="image/jpeg":
ATTENDEE;ROLE=REQ-PARTICIPANT;PARTSTAT=ACCEPTED;RSVP=TRUE;CN="Julie Zi
 mmett":https://community.radrounds.com/profile/JulieZimmett
END:VEVENT
END:VCALENDAR
