BEGIN:VCALENDAR
PRODID:NingEventWidget-v1
VERSION:2.0
METHOD:PUBLISH
BEGIN:VEVENT
UID:1791588:Event:116151
DTSTAMP:20260421T060416Z
SUMMARY:11th Intensive Interactive Head & Neck Imaging Conference
DESCRIPTION:11th Intensive Interactive Head & Neck Imaging Conference 
 Monday, March 26, 2012 - Friday, March 30, 2012Salt Lake City Marriott
  City Center Hotel Salt Lake City, Utah (UT), United StatesProvided by
  University of Utah Neuroradiology  CME Provider: University of Utah N
 euroradiology Richard Wiggins30 North, 1900 East#1A71Salt Lake City, U
 tah (UT) 84132-2140United States\nPhone: (801) 581-4624Fax: (801) 585-
 7330\n\nConference Center:Salt Lake City Marriott City Center Hotel 22
 0 South State StreetSalt Lake City, Utah (UT) 84111United States\nToll
  Free: 866-961-8700Phone: 801-961-8700Fax: 801-961-8704\n Description:
 This comprehensive course in head and neck imaging is intendedto give 
 radiologists an in depth exposure to head and neck anatomy,diagnoses, 
 and differential diagnoses. The sessions include didacticlectures cove
 ring all vital anatomic areas of the head and neck,such as special ses
 sions on the temporal bone, skull base, squamouscell carcinoma of the 
 upper aerodigestive tract, orbit, the sinonasalregion, pediatric head 
 and neck issues, and interactive case reviewscovering unknown head and
  neck cases correlating with the morningsessions. This time is designe
 d to interactively present the participant with hundreds of individual
  case examples of head and neck lesions.\nSelf Assessment Module (SAM)
 : No\nInstructors:Wiggins, Harnsberger, Hudgins, Michel, Glastonbury, 
 Chapman, Hedlund, Davidson, Shah, Rassner, Anderson, Moore\nSpecialty 
 Audience:NeurologyOphthalmologyOtolaryngologyPediatricsRadiologySurger
 y\n\nFor more information visit https://community.radrounds.com/events
 /11th-intensive-interactive-head-neck-imaging-conference
DTSTART:20120326T040000Z
DTEND:20120331T035900Z
CATEGORIES:radiology
LOCATION:Salt Lake City Marriott City Center Hotel
WEBSITE:http://www.marriott.com/hotels/travel/slccc-salt-lake-city-mar
 riott-city-center/
URL:http://www.marriott.com/hotels/travel/slccc-salt-lake-city-marriot
 t-city-center/
CONTACT:801-961-8700
ORGANIZER:University of Utah Neuroradiology
ATTACH;FMTTYPE="image/jpeg":
ATTENDEE;ROLE=REQ-PARTICIPANT;PARTSTAT=ACCEPTED;RSVP=TRUE;CN="radRound
 s Radiology Events":https://community.radrounds.com/profile/radRoundsR
 adiologyEvents
END:VEVENT
END:VCALENDAR
