BEGIN:VCALENDAR
PRODID:NingEventWidget-v1
VERSION:2.0
METHOD:PUBLISH
BEGIN:VEVENT
UID:1791588:Event:116310
DTSTAMP:20260424T004910Z
SUMMARY:10th Annual NYU Radiology Alpine Imaging Symposium
DESCRIPTION:10th Annual NYU Radiology Alpine Imaging Symposium Monday,
  March 12, 2012 - Friday, March 16, 2012The Chateaux Park City, Utah (
 UT), United StatesProvided by NYU Langone Medical Center  CME Provider
 : NYU Langone Medical Center Department of Radiology462 First AvenueOB
 H C&D, 1st Floor, Room 4New York, New York (NY) 10016United States\nPh
 one: (212) 263-3936Fax: (212) 263-3959\n\nConference Center:The Chatea
 ux 7815 Royal Street EastPark City, Utah (UT) 84060United States\nToll
  Free: (877) 288-2978Phone: (435) 658-9500\nDescription:Save the date!
  NYU is headed back to Deer Valley for spring skiing, March 12-16, 201
 2! For the fourth year in a row, Deer Valley was named the #1 ski reso
 rt in North America by the readers of SKI Magazine in 2011!\nSelf Asse
 ssment Module (SAM): No\nInstructors:Please visit the NYU Langone Medi
 cal Center website for more information.\nSpecialty Audience:Internal 
 MedicineQuality AssuranceRadiology\n\nFor more information visit https
 ://community.radrounds.com/events/10th-annual-nyu-radiology-alpine-ima
 ging-symposium
DTSTART:20120312T040000Z
DTEND:20120317T035900Z
CATEGORIES:radiology
LOCATION:The Chateaux
WEBSITE:http://the-chateaux.com/
URL:http://the-chateaux.com/
CONTACT:(435) 658-9500
ORGANIZER:NYU Langone Medical Center
ATTACH;FMTTYPE="image/jpeg":
ATTENDEE;ROLE=REQ-PARTICIPANT;PARTSTAT=ACCEPTED;RSVP=TRUE;CN="radRound
 s Radiology Events":https://community.radrounds.com/profile/radRoundsR
 adiologyEvents
END:VEVENT
END:VCALENDAR
